BEGIN:VCALENDAR
VERSION:2.0
PRODID:-//J. Rieck Music - ECPv6.15.13.1//NONSGML v1.0//EN
CALSCALE:GREGORIAN
METHOD:PUBLISH
X-ORIGINAL-URL:https://jrieckmusic.com
X-WR-CALDESC:Events for J. Rieck Music
REFRESH-INTERVAL;VALUE=DURATION:PT1H
X-Robots-Tag:noindex
X-PUBLISHED-TTL:PT1H
BEGIN:VTIMEZONE
TZID:America/Chicago
BEGIN:DAYLIGHT
TZOFFSETFROM:-0600
TZOFFSETTO:-0500
TZNAME:CDT
DTSTART:20250309T080000
END:DAYLIGHT
BEGIN:STANDARD
TZOFFSETFROM:-0500
TZOFFSETTO:-0600
TZNAME:CST
DTSTART:20251102T070000
END:STANDARD
BEGIN:DAYLIGHT
TZOFFSETFROM:-0600
TZOFFSETTO:-0500
TZNAME:CDT
DTSTART:20260308T080000
END:DAYLIGHT
BEGIN:STANDARD
TZOFFSETFROM:-0500
TZOFFSETTO:-0600
TZNAME:CST
DTSTART:20261101T070000
END:STANDARD
BEGIN:DAYLIGHT
TZOFFSETFROM:-0600
TZOFFSETTO:-0500
TZNAME:CDT
DTSTART:20270314T080000
END:DAYLIGHT
BEGIN:STANDARD
TZOFFSETFROM:-0500
TZOFFSETTO:-0600
TZNAME:CST
DTSTART:20271107T070000
END:STANDARD
END:VTIMEZONE
BEGIN:VEVENT
DTSTART;TZID=America/Chicago:20260319T183000
DTEND;TZID=America/Chicago:20260319T200000
DTSTAMP:20260419T133446
CREATED:20260226T013112Z
LAST-MODIFIED:20260226T013112Z
UID:1458-1773945000-1773950400@jrieckmusic.com
SUMMARY:Johnson - McKinney Quintet at Trio Jazz Club
DESCRIPTION:Welcome back the legendary duo of Jim McKinney and Corliss Johnson from Brookings with their quintet as they entertain the audience with their vibraphone\, saxophone\, a couple of jokes here and there\, and plenty of classic jazz tunes. \nJohnson-McKinney Quintet perform at Trio Jazz Club on Thursday\, March 19th at 6:30pm.
URL:https://jrieckmusic.com/event/johnson-mckinney-quintet-at-trio-jazz-club/
LOCATION:Trio Jazz Club\, 322 E 8th St\, Sioux Falls\, SD\, 57103\, United States
ATTACH;FMTTYPE=image/webp:https://jrieckmusic.com/wp-content/uploads/2026/02/johnson_mckinney.jpg-sqLg.webp
END:VEVENT
END:VCALENDAR