BEGIN:VCALENDAR
VERSION:2.0
PRODID:-//J. Rieck Music - ECPv6.15.13.1//NONSGML v1.0//EN
CALSCALE:GREGORIAN
METHOD:PUBLISH
X-WR-CALNAME:J. Rieck Music
X-ORIGINAL-URL:https://jrieckmusic.com
X-WR-CALDESC:Events for J. Rieck Music
REFRESH-INTERVAL;VALUE=DURATION:PT1H
X-Robots-Tag:noindex
X-PUBLISHED-TTL:PT1H
BEGIN:VTIMEZONE
TZID:America/Chicago
BEGIN:DAYLIGHT
TZOFFSETFROM:-0600
TZOFFSETTO:-0500
TZNAME:CDT
DTSTART:20250309T080000
END:DAYLIGHT
BEGIN:STANDARD
TZOFFSETFROM:-0500
TZOFFSETTO:-0600
TZNAME:CST
DTSTART:20251102T070000
END:STANDARD
BEGIN:DAYLIGHT
TZOFFSETFROM:-0600
TZOFFSETTO:-0500
TZNAME:CDT
DTSTART:20260308T080000
END:DAYLIGHT
BEGIN:STANDARD
TZOFFSETFROM:-0500
TZOFFSETTO:-0600
TZNAME:CST
DTSTART:20261101T070000
END:STANDARD
BEGIN:DAYLIGHT
TZOFFSETFROM:-0600
TZOFFSETTO:-0500
TZNAME:CDT
DTSTART:20270314T080000
END:DAYLIGHT
BEGIN:STANDARD
TZOFFSETFROM:-0500
TZOFFSETTO:-0600
TZNAME:CST
DTSTART:20271107T070000
END:STANDARD
END:VTIMEZONE
BEGIN:VEVENT
DTSTART;TZID=America/Chicago:20260329T193000
DTEND;TZID=America/Chicago:20260329T213000
DTSTAMP:20260419T193905
CREATED:20250614T170345Z
LAST-MODIFIED:20250614T170345Z
UID:842-1774812600-1774819800@jrieckmusic.com
SUMMARY:SDSO Chamber Concert
DESCRIPTION:March 29\, 2026 | 1:00 PM \nSDSO Chamber Music Concert\nAugustana University Hamre Hall \nSDSO Chamber Music Concert \nSingle Concert Tickets \nAvailable soon \nSDSO Subscriber \nPurchase Subscription \nSDSO Chamber Music Concert \nCONCERT OVERVIEW\nDakota Wind Quintet \nEnjoy a Sunday Serenade with the Dakota Wind Quintet\, showcasing masterpieces of chamber music in the Augustana University Hamre Recital Hall! \n*Hamre Recital Hall is located in the Fryxell Humanities building at 2120 S. Grange Avenue. Enter through the joint entrance with the Center for Visual Arts building\, walk through the atrium to the opening on the left side of the waterfall. \n  \n*Programming\, artists\, dates\, and prices are subject to change. \n*Additional 3e Encore Guest Services fees and taxes will apply. \n*There are no returns/refunds on season series or single ticket sales. \n*Performances may be photographed and recorded for archival and promotional purposes by the organization. Audience may be included.
URL:https://jrieckmusic.com/event/sdso-chamber-concert/
LOCATION:Washington Pavilion\, 301 S Main Ave\, Sioux Falls\, SD\, 57104\, United States
ATTACH;FMTTYPE=image/webp:https://jrieckmusic.com/wp-content/uploads/2025/06/dwq-webheader2-1200-x-500-px.webp
END:VEVENT
BEGIN:VEVENT
DTSTART;TZID=America/Chicago:20260328T140000
DTEND;TZID=America/Chicago:20260328T153000
DTSTAMP:20260419T193905
CREATED:20260226T021127Z
LAST-MODIFIED:20260226T021127Z
UID:1478-1774706400-1774711800@jrieckmusic.com
SUMMARY:Jazz for Young People - Part 3 at Trio Jazz Club
DESCRIPTION:Jazz for Young People is a three-part concert series designed especially for children ages 3-9 and their families! Across these playful and interactive 45-minute concerts\, young listeners will discover the sounds\, rhythms\, and creativity that make jazz such a joyful American art form. Each program is hosted by actor\, musician\, and teacher Allison Mickelson and performed by Fellowship Jazz Collective\, giving children an up-close experience with artists who bring this music to life. \nPart 3: Improvisation is the Language of Jazz – March 28 \nYoung audiences will discover how jazz musicians “talk” to one another. \nJazz For Young People performs at Trio Jazz Club on Saturday\, March 28th at 2:00pm.
URL:https://jrieckmusic.com/event/jazz-for-young-people-part-3-at-trio-jazz-club/
LOCATION:Trio Jazz Club\, 322 E 8th St\, Sioux Falls\, SD\, 57103\, United States
ATTACH;FMTTYPE=image/webp:https://jrieckmusic.com/wp-content/uploads/2026/02/Jazz_for_young_people_-_Part_3.png.jpg-sqLg.webp
END:VEVENT
BEGIN:VEVENT
DTSTART;TZID=America/Chicago:20260326T190000
DTEND;TZID=America/Chicago:20260326T210000
DTSTAMP:20260419T193905
CREATED:20260109T212041Z
LAST-MODIFIED:20260109T212041Z
UID:1374-1774551600-1774558800@jrieckmusic.com
SUMMARY:ZZ Top at Dacotah Bank Center in Brookings\, SD
DESCRIPTION:ZZ Top will be rocking the stage in Brookings\, SD\, at the Dacotah Bank Center on March 26\, 2026\, at 7:00 PM. Known for their distinctive sound that blends rock\, blues\, and boogie\, ZZ Top is one of the most recognized and enduring bands in the music industry. With hits like “La Grange” and “Sharp Dressed Man\,” fans can expect an electrifying night filled with classic tracks that highlight their legendary career. \n\n\n\nhttps://www.eventticketscenter.com/zz-top-brookings-tickets/1296120/e?gad_source=1&gad_campaignid=23027837726&gclid=CjwKCAiA64LLBhBhEiwA-Pxgu_7bx4yrw9AG1KnmGjTnWZqCr–oe9TBk94AepY42ggHpukmZ9BIBhoC8woQAvD_BwE
URL:https://jrieckmusic.com/event/zz-top-at-dacotah-bank-center-in-brookings-sd/
LOCATION:Dacotah Bank Center\, 824 32nd Ave\, Brookings\, SD\, 57006\, United States
ATTACH;FMTTYPE=image/webp:https://jrieckmusic.com/wp-content/uploads/2026/01/1164-concert-poprock-zz-top.webp
END:VEVENT
BEGIN:VEVENT
DTSTART;TZID=America/Chicago:20260326T183000
DTEND;TZID=America/Chicago:20260326T200000
DTSTAMP:20260419T193905
CREATED:20260226T015404Z
LAST-MODIFIED:20260226T015404Z
UID:1474-1774549800-1774555200@jrieckmusic.com
SUMMARY:Jazzed with Bobby Gripp at Trio Jazz Club
DESCRIPTION:Led by local legendary drummer Bobby Gripp\, this group will get your toe tapping along with classic and contemporary jazz. \nJazzed with Bobby Gripp performs at Trio Jazz Club on Thursday\, March 26th at 6:30pm.
URL:https://jrieckmusic.com/event/jazzed-with-bobby-gripp-at-trio-jazz-club/
LOCATION:Trio Jazz Club\, 322 E 8th St\, Sioux Falls\, SD\, 57103\, United States
ATTACH;FMTTYPE=image/webp:https://jrieckmusic.com/wp-content/uploads/2026/02/Bobby_Gripp_2.jpeg-sqLg.webp
END:VEVENT
BEGIN:VEVENT
DTSTART;TZID=America/Chicago:20260324T183000
DTEND;TZID=America/Chicago:20260324T200000
DTSTAMP:20260419T193905
CREATED:20260226T014950Z
LAST-MODIFIED:20260226T014950Z
UID:1471-1774377000-1774382400@jrieckmusic.com
SUMMARY:James Dean at Trio Jazz Club
DESCRIPTION:Welcome the soothing sounds of instrumentalist/looper\, James Dean! \nJames Dean performs at Trio Jazz Club on Tuesday\, March 24th at 6:30pm.
URL:https://jrieckmusic.com/event/james-dean-at-trio-jazz-club/
LOCATION:Trio Jazz Club\, 322 E 8th St\, Sioux Falls\, SD\, 57103\, United States
ATTACH;FMTTYPE=image/webp:https://jrieckmusic.com/wp-content/uploads/2026/02/james.jpg-sqLg.webp
END:VEVENT
BEGIN:VEVENT
DTSTART;TZID=America/Chicago:20260321T210000
DTEND;TZID=America/Chicago:20260321T223000
DTSTAMP:20260419T193905
CREATED:20260226T014603Z
LAST-MODIFIED:20260226T014603Z
UID:1469-1774126800-1774132200@jrieckmusic.com
SUMMARY:Matea Jerkovic at Trio Jazz Club
DESCRIPTION:Matea Jerkovic is a saxophonist\, multi-instrumentalist\, and educator based in Omaha\, Nebraska. A recent graduate of the University of Nebraska at Omaha Jazz Studies program\, Jerkovic has already distinguished herself as a rising voice in the Midwest jazz scene. In 2025\, she was names Outstanding Soloist at the UNC Greeley Jazz Festival and won the North American Saxophone Alliance Region 3 Jazz Competition. She has performed internationally in Uruguay and studied abroad at the Jazeps Vitols Latvian Academy of Music in Riga\, Latvia. \nJerkovic performs regularly across the Midwest with her trio and as a member of multiple entertainment companies. As an educator\, she serves as an assistant teaching artist with the Omaha Performing Arts Jazz Academy\, where she is dedicated to inspiring and mentoring young musicians. \nJoined by Sebastian Arias on bass and Andrew Wray on drums\, this new trio will make its debut on Friday\, September 12 at Trio Jazz Club\, blending jazz with modern electronic influences. \nMatea Jerkovic performs at Trio Jazz Club on Saturday\, March 21 at 6:30pm and 9:00pm.
URL:https://jrieckmusic.com/event/matea-jerkovic-at-trio-jazz-club-2/
LOCATION:Trio Jazz Club\, 322 E 8th St\, Sioux Falls\, SD\, 57103\, United States
ATTACH;FMTTYPE=image/webp:https://jrieckmusic.com/wp-content/uploads/2026/02/Matea2.jpeg-sqLg.webp
END:VEVENT
BEGIN:VEVENT
DTSTART;TZID=America/Chicago:20260321T193000
DTEND;TZID=America/Chicago:20260321T213000
DTSTAMP:20260419T193905
CREATED:20250614T170221Z
LAST-MODIFIED:20250614T170221Z
UID:840-1774121400-1774128600@jrieckmusic.com
SUMMARY:Broadway to Hollywood with the SDSO
DESCRIPTION:March 21\, 2026 | 7:30 PM \nBroadway to Hollywood\nMary W. Sommervold Hall at the Washington Pavilion \nBroadway to Hollywood \nSingle Concert Tickets \nAvailable soon \nSDSO Subscriber \nPurchase Subscription \nBroadway to Hollywood \nCONCERT OVERVIEW\nSUPER\, IMPERIAL\, BRAVO\n(Pops Concert) \nNicole Parker\, singer \n  \nNicole Parker\, who was seen as Elphaba both on Broadway and in the national tour of Wicked\, and appeared on Broadway in Martin Short: Fame Becomes Me\, joins the South Dakota Symphony Orchestra for an evening of showstoppers from stage shows that became immortalized in film. Your favorite moments from Wicked\, Wizard of Oz\, The Sound of Music\, and more. \n*Programming\, artists\, dates\, and prices are subject to change. \n*Additional 3e Encore Guest Services fees and taxes will apply. \n*There are no returns/refunds on season series or single ticket sales. \n*Performances may be photographed and recorded for archival and promotional purposes by the organization. Audience may be included
URL:https://jrieckmusic.com/event/broadway-to-hollywood-with-the-sdso/
LOCATION:Washington Pavilion\, 301 S Main Ave\, Sioux Falls\, SD\, 57104\, United States
ATTACH;FMTTYPE=image/webp:https://jrieckmusic.com/wp-content/uploads/2025/06/broadway.webp
END:VEVENT
BEGIN:VEVENT
DTSTART;TZID=America/Chicago:20260321T190000
DTEND;TZID=America/Chicago:20260321T233000
DTSTAMP:20260419T193905
CREATED:20251114T033109Z
LAST-MODIFIED:20251114T033109Z
UID:1356-1774119600-1774135800@jrieckmusic.com
SUMMARY:Anthony Gomes at Bigs Bar
DESCRIPTION:Get ready to rock out with ANTHONY GOMES and special guest STRANGE DAZE!\n\n\n\n“Gomes’ authentic voice and the formidable guitar chops place him in the forefront of modern blues.” – Blues Music Magazine \nAnthony Gomes\, #1 Billboard Blues Artist\, is a triple threat force as a guitarist\, vocalist and songwriter. This\, along with his high-energy shows and dynamic stage presence\, make him one of the top draws on the Rock/Blues circuit today. \nGomes’ new record Peace\, Love & Loud Guitars\, named Best Blues Album of 2018 by Blues Rock Review and SoundGuardian Magazine\, is the culmination of a life spent honoring Blues traditions while never losing sight of his own identity. The Toronto born guitar slinger stands his ground as a creative artist and is eager to push the Blues back into the mainstream. \nAnthony Gomes has nothing left to prove while leaving all his passion on the table. Nonetheless\, he continues striving to not only find the legendary “lost chord\,” but the ultimate combinations of words\, notes and performance. Looking for an actual 21st Century guitar hero? Here he is.
URL:https://jrieckmusic.com/event/anthony-gomes-at-bigs-bar/
LOCATION:Bigs Bar\, 3110 W 12th St\, Sioux Falls\, 57104\, United States
END:VEVENT
BEGIN:VEVENT
DTSTART;TZID=America/Chicago:20260321T183000
DTEND;TZID=America/Chicago:20260321T200000
DTSTAMP:20260419T193905
CREATED:20260226T014441Z
LAST-MODIFIED:20260226T014441Z
UID:1466-1774117800-1774123200@jrieckmusic.com
SUMMARY:Matea Jerkovic at Trio Jazz Club
DESCRIPTION:Matea Jerkovic is a saxophonist\, multi-instrumentalist\, and educator based in Omaha\, Nebraska. A recent graduate of the University of Nebraska at Omaha Jazz Studies program\, Jerkovic has already distinguished herself as a rising voice in the Midwest jazz scene. In 2025\, she was names Outstanding Soloist at the UNC Greeley Jazz Festival and won the North American Saxophone Alliance Region 3 Jazz Competition. She has performed internationally in Uruguay and studied abroad at the Jazeps Vitols Latvian Academy of Music in Riga\, Latvia. \nJerkovic performs regularly across the Midwest with her trio and as a member of multiple entertainment companies. As an educator\, she serves as an assistant teaching artist with the Omaha Performing Arts Jazz Academy\, where she is dedicated to inspiring and mentoring young musicians. \nJoined by Sebastian Arias on bass and Andrew Wray on drums\, this new trio will make its debut on Friday\, September 12 at Trio Jazz Club\, blending jazz with modern electronic influences. \nMatea Jerkovic performs at Trio Jazz Club on Saturday\, March 21 at 6:30pm and 9:00pm.
URL:https://jrieckmusic.com/event/matea-jerkovic-at-trio-jazz-club/
LOCATION:Trio Jazz Club\, 322 E 8th St\, Sioux Falls\, SD\, 57103\, United States
ATTACH;FMTTYPE=image/webp:https://jrieckmusic.com/wp-content/uploads/2026/02/Matea2.jpeg-sqLg.webp
END:VEVENT
BEGIN:VEVENT
DTSTART;TZID=America/Chicago:20260320T210000
DTEND;TZID=America/Chicago:20260320T220000
DTSTAMP:20260419T193905
CREATED:20260226T013729Z
LAST-MODIFIED:20260226T013729Z
UID:1464-1774040400-1774044000@jrieckmusic.com
SUMMARY:Tomahawk County at Trio Jazz Club
DESCRIPTION:Tomahawk County is a bluegrass band out of Sioux Falls that plays Grateful Dead and Phish covers as well as other bluegrass standards. \nTomahawk County performs at Trio Jazz Club on Friday\, March 20th at 6:30pm and 9:00pm.
URL:https://jrieckmusic.com/event/tomahawk-county-at-trio-jazz-club-2/
LOCATION:Trio Jazz Club\, 322 E 8th St\, Sioux Falls\, SD\, 57103\, United States
ATTACH;FMTTYPE=image/webp:https://jrieckmusic.com/wp-content/uploads/2026/02/tomahawk2.jpg-sqLg.webp
END:VEVENT
BEGIN:VEVENT
DTSTART;TZID=America/Chicago:20260320T183000
DTEND;TZID=America/Chicago:20260320T200000
DTSTAMP:20260419T193905
CREATED:20260226T013456Z
LAST-MODIFIED:20260226T013456Z
UID:1461-1774031400-1774036800@jrieckmusic.com
SUMMARY:Tomahawk County at Trio Jazz Club
DESCRIPTION:Tomahawk County is a new blueglass band out of Sioux Falls that plays Grateful Dead and Phish covers as well as other bluegrass standards. \nTomahawk County performs at Trio Jazz Club on Friday\, March 20 at 6:30pm and 9:00pm.
URL:https://jrieckmusic.com/event/tomahawk-county-at-trio-jazz-club/
LOCATION:Trio Jazz Club\, 322 E 8th St\, Sioux Falls\, SD\, 57103\, United States
ATTACH;FMTTYPE=image/webp:https://jrieckmusic.com/wp-content/uploads/2026/02/tomahawk2.jpg-sqLg.webp
END:VEVENT
BEGIN:VEVENT
DTSTART;TZID=America/Chicago:20260319T183000
DTEND;TZID=America/Chicago:20260319T200000
DTSTAMP:20260419T193905
CREATED:20260226T013112Z
LAST-MODIFIED:20260226T013112Z
UID:1458-1773945000-1773950400@jrieckmusic.com
SUMMARY:Johnson - McKinney Quintet at Trio Jazz Club
DESCRIPTION:Welcome back the legendary duo of Jim McKinney and Corliss Johnson from Brookings with their quintet as they entertain the audience with their vibraphone\, saxophone\, a couple of jokes here and there\, and plenty of classic jazz tunes. \nJohnson-McKinney Quintet perform at Trio Jazz Club on Thursday\, March 19th at 6:30pm.
URL:https://jrieckmusic.com/event/johnson-mckinney-quintet-at-trio-jazz-club/
LOCATION:Trio Jazz Club\, 322 E 8th St\, Sioux Falls\, SD\, 57103\, United States
ATTACH;FMTTYPE=image/webp:https://jrieckmusic.com/wp-content/uploads/2026/02/johnson_mckinney.jpg-sqLg.webp
END:VEVENT
END:VCALENDAR